BEGIN:VCALENDAR
VERSION:2.0
PRODID:-//wp-events-plugin.com//7.2.3.1//EN
TZID:America/Los_Angeles
X-WR-TIMEZONE:America/Los_Angeles
BEGIN:VEVENT
UID:23@malibugardenclub.org
DTSTART;TZID=America/Los_Angeles:20180606T093000
DTEND;TZID=America/Los_Angeles:20180606T120000
DTSTAMP:20190623T175953Z
URL:https://www.malibugardenclub.org/events/container-and-raised-bed-garde
 ning-options-tips/
SUMMARY:Container and Raised Bed Gardening: Options & Tips
DESCRIPTION:For our June 2018\, Eric Olsen presented Container and Raised B
 ed Gardening: Options & Tips. Eric covered different options available to 
 the gardener and pluses and minuses to each of them. Eric brought 50 Smart
  Pots samples to share.
ATTACH;FMTTYPE=image/jpeg:https://www.malibugardenclub.org/wp-content/uplo
 ads/containers.jpg
CATEGORIES:Malibu Garden Club
LOCATION:Point Dume Club House\, 29500 Heathercliff Drive\, Malibu\, Califo
 rnia\, 90265\, United States
X-APPLE-STRUCTURED-LOCATION;VALUE=URI;X-ADDRESS=29500 Heathercliff Drive\, 
 Malibu\, California\, 90265\, United States;X-APPLE-RADIUS=100;X-TITLE=Poi
 nt Dume Club House:geo:0,0
END:VEVENT
BEGIN:VTIMEZONE
TZID:America/Los_Angeles
X-LIC-LOCATION:America/Los_Angeles
BEGIN:DAYLIGHT
DTSTART:20180311T030000
TZOFFSETFROM:-0800
TZOFFSETTO:-0700
TZNAME:PDT
END:DAYLIGHT
END:VTIMEZONE
END:VCALENDAR