BEGIN:VCALENDAR
VERSION:2.0
PRODID:-//wp-events-plugin.com//7.2.3.1//EN
TZID:America/Los_Angeles
X-WR-TIMEZONE:America/Los_Angeles
BEGIN:VEVENT
UID:146@malibugardenclub.org
DTSTART;TZID=America/Los_Angeles:20190727T100000
DTEND;TZID=America/Los_Angeles:20190727T120000
DTSTAMP:20190620T185755Z
URL:https://www.malibugardenclub.org/events/compost-vermiculture/
SUMMARY:Compost & Vermiculture
DESCRIPTION:Discover the different methods of the composting process\, from
  collecting food scraps to vermiculture.  Learn what materials can be comp
 osted and how worm castings (poop!) can improve your soil.  Composting con
 ditions the soil for healthy plants\, and can save money and water.
ATTACH;FMTTYPE=image/jpeg:https://www.malibugardenclub.org/wp-content/uplo
 ads/earthworm.jpg
CATEGORIES:Local Events
LOCATION:Los Angeles County Arboretum and Botanic Garden\, 301 North Baldwi
 n Ave\, Arcadia\, CA\, 91007\, United States
X-APPLE-STRUCTURED-LOCATION;VALUE=URI;X-ADDRESS=301 North Baldwin Ave\, Arc
 adia\, CA\, 91007\, United States;X-APPLE-RADIUS=100;X-TITLE=Los Angeles C
 ounty Arboretum and Botanic Garden:geo:0,0
END:VEVENT
BEGIN:VTIMEZONE
TZID:America/Los_Angeles
X-LIC-LOCATION:America/Los_Angeles
BEGIN:DAYLIGHT
DTSTART:20190310T030000
TZOFFSETFROM:-0800
TZOFFSETTO:-0700
TZNAME:PDT
END:DAYLIGHT
END:VTIMEZONE
END:VCALENDAR