BEGIN:VCALENDAR
VERSION:2.0
PRODID:-//wp-events-plugin.com//7.2.3.1//EN
TZID:America/Los_Angeles
X-WR-TIMEZONE:America/Los_Angeles
BEGIN:VEVENT
UID:216@malibugardenclub.org
DTSTART;TZID=America/Los_Angeles:20230612T110000
DTEND;TZID=America/Los_Angeles:20230612T130000
DTSTAMP:20230618T114111Z
URL:https://www.malibugardenclub.org/events/come-and-smell-the-roses/
SUMMARY:Come and Smell the Roses
DESCRIPTION:Join the Malibu Garden Club as we visit Cathey Cadieux’s Rose
  Garden and Home. Cathey has a gorgeous rose garden\, along with many othe
 r beautiful flowers. Spring has sprung in her garden. Situated on a bluff 
 overlooking Zuma Beach and the ocean\, her garden has a spectacular view. 
 She will lead us on a guided tour of the garden. After the garden tour is 
 over we will all meet at Kristy’s restaurant in the Trancas Shopping Cen
 ter for lunch (Dutch Treat)
ATTACH;FMTTYPE=image/jpeg:https://www.malibugardenclub.org/wp-content/uplo
 ads/MGC-roses-2023-06.jpg
CATEGORIES:Malibu Garden Club
END:VEVENT
BEGIN:VTIMEZONE
TZID:America/Los_Angeles
X-LIC-LOCATION:America/Los_Angeles
BEGIN:DAYLIGHT
DTSTART:20230312T030000
TZOFFSETFROM:-0800
TZOFFSETTO:-0700
TZNAME:PDT
END:DAYLIGHT
END:VTIMEZONE
END:VCALENDAR