BEGIN:VCALENDAR
VERSION:2.0
PRODID:-//wp-events-plugin.com//7.2.3.1//EN
TZID:America/Los_Angeles
X-WR-TIMEZONE:America/Los_Angeles
BEGIN:VEVENT
UID:208@malibugardenclub.org
DTSTART;TZID=America/Los_Angeles:20200314T100000
DTEND;TZID=America/Los_Angeles:20200315T170000
DTSTAMP:20200308T141317Z
URL:https://www.malibugardenclub.org/events/clivia-show-sale/
SUMMARY:Clivia Show & Sale
DESCRIPTION:More than 200 beautiful plants and floral displays are on view 
 during the 17th annual Clivia Show and Sale\, Saturday and Sunday\, March 
 14–15. Visitors can enjoy prize-winning exhibits\; watch how-to demonstr
 ations on clivia care\, repotting\, and flower arranging\; browse through 
 the sale area for unusual varieties to take home\, and cast their votes fo
 r the "People's Choice" award. The event is presented by the Southern Cali
 fornia Chapter of the North American Clivia Society.
ATTACH;FMTTYPE=image/jpeg:https://www.malibugardenclub.org/wp-content/uplo
 ads/clivias.jpg
CATEGORIES:Local Events
LOCATION:The Huntington Botanical Gardens\, 1151 Oxford Road\, San Marino\,
  CA\, 91108 \, United States
X-APPLE-STRUCTURED-LOCATION;VALUE=URI;X-ADDRESS=1151 Oxford Road\, San Mari
 no\, CA\, 91108 \, United States;X-APPLE-RADIUS=100;X-TITLE=The Huntington
  Botanical Gardens:geo:0,0
END:VEVENT
BEGIN:VTIMEZONE
TZID:America/Los_Angeles
X-LIC-LOCATION:America/Los_Angeles
BEGIN:DAYLIGHT
DTSTART:20200308T030000
TZOFFSETFROM:-0800
TZOFFSETTO:-0700
TZNAME:PDT
END:DAYLIGHT
END:VTIMEZONE
END:VCALENDAR