BEGIN:VCALENDAR
VERSION:2.0
PRODID:-//wp-events-plugin.com//7.2.3.1//EN
TZID:America/Los_Angeles
X-WR-TIMEZONE:America/Los_Angeles
BEGIN:VEVENT
UID:112@malibugardenclub.org
DTSTART;TZID=America/Los_Angeles:20100106T190000
DTEND;TZID=America/Los_Angeles:20100106T210000
DTSTAMP:20190623T164740Z
URL:https://www.malibugardenclub.org/events/city-of-malibu-biologist-dave-
 crawford/
SUMMARY:City of Malibu Biologist Dave Crawford
DESCRIPTION:For our January meeting\, City of Malibu Biologist Dave Crawfor
 d talked about the new 2010 state and local landscape and irrigation regul
 ations that will affect all of us. Dave also discussed native plants and i
 nvasive species.
ATTACH;FMTTYPE=image/jpeg:https://www.malibugardenclub.org/wp-content/uplo
 ads/irrigation-regulations.jpg
CATEGORIES:Malibu Garden Club
LOCATION:Point Dume Club House\, 29500 Heathercliff Drive\, Malibu\, Califo
 rnia\, 90265\, United States
X-APPLE-STRUCTURED-LOCATION;VALUE=URI;X-ADDRESS=29500 Heathercliff Drive\, 
 Malibu\, California\, 90265\, United States;X-APPLE-RADIUS=100;X-TITLE=Poi
 nt Dume Club House:geo:0,0
END:VEVENT
BEGIN:VTIMEZONE
TZID:America/Los_Angeles
X-LIC-LOCATION:America/Los_Angeles
BEGIN:STANDARD
DTSTART:20091101T010000
TZOFFSETFROM:-0700
TZOFFSETTO:-0800
TZNAME:PST
END:STANDARD
END:VTIMEZONE
END:VCALENDAR