BEGIN:VCALENDAR
VERSION:2.0
PRODID:-//wp-events-plugin.com//7.2.3.1//EN
TZID:America/Los_Angeles
X-WR-TIMEZONE:America/Los_Angeles
BEGIN:VEVENT
UID:141@malibugardenclub.org
DTSTART;TZID=America/Los_Angeles:20191102T090000
DTEND;TZID=America/Los_Angeles:20191103T170000
DTSTAMP:20190926T132023Z
URL:https://www.malibugardenclub.org/events/chrysanthemum-society-show/
SUMMARY:Chrysanthemum Society Show at Descanso Gardens
DESCRIPTION:Meets in Van de Kamp Hall and Birch. 
ATTACH;FMTTYPE=image/jpeg:https://www.malibugardenclub.org/wp-content/uplo
 ads/Chrysanthemums.jpg
CATEGORIES:Local Events
LOCATION:Descanso Gardens\, 1418 Descanso Dr\, La Cañada Flintridge\, CA\,
  91011\, United States
X-APPLE-STRUCTURED-LOCATION;VALUE=URI;X-ADDRESS=1418 Descanso Dr\, La Caña
 da Flintridge\, CA\, 91011\, United States;X-APPLE-RADIUS=100;X-TITLE=Desc
 anso Gardens:geo:0,0
END:VEVENT
BEGIN:VTIMEZONE
TZID:America/Los_Angeles
X-LIC-LOCATION:America/Los_Angeles
BEGIN:DAYLIGHT
DTSTART:20190310T030000
TZOFFSETFROM:-0800
TZOFFSETTO:-0700
TZNAME:PDT
END:DAYLIGHT
BEGIN:STANDARD
DTSTART:20191103T010000
TZOFFSETFROM:-0700
TZOFFSETTO:-0800
TZNAME:PST
END:STANDARD
END:VTIMEZONE
END:VCALENDAR