BEGIN:VCALENDAR
VERSION:2.0
PRODID:-//wp-events-plugin.com//7.2.3.1//EN
TZID:America/Los_Angeles
X-WR-TIMEZONE:America/Los_Angeles
BEGIN:VEVENT
UID:179@malibugardenclub.org
DTSTART;TZID=America/Los_Angeles:20191109T100000
DTEND;TZID=America/Los_Angeles:20191110T140000
DTSTAMP:20190926T133245Z
URL:https://www.malibugardenclub.org/events/chrysanthemum-show-sale-at-the
 -huntington/
SUMMARY:Chrysanthemum Show & Sale at the Huntington
DESCRIPTION:More than 100 exhibition-style chrysanthemums in a range of sha
 pes and colors are on view when the National Chrysanthemum Society present
 s its 2019 show and sale at the Huntington.
ATTACH;FMTTYPE=image/jpeg:https://www.malibugardenclub.org/wp-content/uplo
 ads/mum-show.jpg
CATEGORIES:Local Events
LOCATION:The Huntington Botanical Gardens\, 1151 Oxford Road\, San Marino\,
  CA\, 91108 \, United States
X-APPLE-STRUCTURED-LOCATION;VALUE=URI;X-ADDRESS=1151 Oxford Road\, San Mari
 no\, CA\, 91108 \, United States;X-APPLE-RADIUS=100;X-TITLE=The Huntington
  Botanical Gardens:geo:0,0
END:VEVENT
BEGIN:VTIMEZONE
TZID:America/Los_Angeles
X-LIC-LOCATION:America/Los_Angeles
BEGIN:STANDARD
DTSTART:20191103T010000
TZOFFSETFROM:-0700
TZOFFSETTO:-0800
TZNAME:PST
END:STANDARD
END:VTIMEZONE
END:VCALENDAR