BEGIN:VCALENDAR
VERSION:2.0
PRODID:-//wp-events-plugin.com//7.2.3.1//EN
TZID:America/Los_Angeles
X-WR-TIMEZONE:America/Los_Angeles
BEGIN:VEVENT
UID:158@malibugardenclub.org
DTSTART;TZID=America/Los_Angeles;VALUE=DATE:20190701
DTEND;TZID=America/Los_Angeles;VALUE=DATE:20190902
DTSTAMP:20190701T094731Z
URL:https://www.malibugardenclub.org/events/call-for-gardens-2020-theodore
 -payne-native-plant-garden-tour/
SUMMARY:Call for Gardens: 2020 Theodore Payne Native Plant Garden Tour
DESCRIPTION:To qualify for the Theodore Payne Foundation's Native Plant Gar
 den Tour (Saturday & Sunday\, March 28 and 29\, 2020\, from 10 a.m.-5 p.m.
 )\, your garden must be:\n\nA residential garden located within Los Angele
 s County. \nPlanted with a minimum of 50% California native plants. \nWe p
 refer more established gardens\, which means that many of the native plant
 s are approaching their mature size.\nFree of invasive\, non-native specie
 s. Examples include fountain grass (Pennisetum)\, Mexican feather grass (N
 assella or Stipa tenuissima)\, Algerian ivy\, and others. Learn more about
  invasive plants to avoid. \n\n\nApplications are due by September 1\, 201
 9 and cannot be considered after this date.\n\nMore information and to app
 ly
ATTACH;FMTTYPE=image/jpeg:https://www.malibugardenclub.org/wp-content/uplo
 ads/Payne-about-hero-1.jpg
CATEGORIES:Local Events
END:VEVENT
BEGIN:VTIMEZONE
TZID:America/Los_Angeles
X-LIC-LOCATION:America/Los_Angeles
BEGIN:DAYLIGHT
DTSTART:20190310T030000
TZOFFSETFROM:-0800
TZOFFSETTO:-0700
TZNAME:PDT
END:DAYLIGHT
END:VTIMEZONE
END:VCALENDAR