BEGIN:VCALENDAR
VERSION:2.0
PRODID:-//wp-events-plugin.com//7.2.3.1//EN
TZID:America/Los_Angeles
X-WR-TIMEZONE:America/Los_Angeles
BEGIN:VEVENT
UID:175@malibugardenclub.org
DTSTART;TZID=America/Los_Angeles:20191012T100000
DTEND;TZID=America/Los_Angeles:20191013T150000
DTSTAMP:20190926T124640Z
URL:https://www.malibugardenclub.org/events/california-native-plant-societ
 ys-native-plant-sale-weekend/
SUMMARY:California Native Plant Society's Native Plant Sale Weekend
DESCRIPTION:The California Native Plant Society continues with their expand
 ed selection this year - with a focus on species that can survive in our h
 ot and dry climate - there is a plant that can fill your garden's needs.
ATTACH;FMTTYPE=image/jpeg:https://www.malibugardenclub.org/wp-content/uplo
 ads/California-Native-Plants.jpg
CATEGORIES:Local Events
LOCATION:Sepulveda Garden Center\, 16633 Magnolia Blvd\, Encino\, CA\, 9143
 6\, United States
X-APPLE-STRUCTURED-LOCATION;VALUE=URI;X-ADDRESS=16633 Magnolia Blvd\, Encin
 o\, CA\, 91436\, United States;X-APPLE-RADIUS=100;X-TITLE=Sepulveda Garden
  Center:geo:0,0
END:VEVENT
BEGIN:VTIMEZONE
TZID:America/Los_Angeles
X-LIC-LOCATION:America/Los_Angeles
BEGIN:DAYLIGHT
DTSTART:20190310T030000
TZOFFSETFROM:-0800
TZOFFSETTO:-0700
TZNAME:PDT
END:DAYLIGHT
END:VTIMEZONE
END:VCALENDAR