BEGIN:VCALENDAR
VERSION:2.0
PRODID:-//wp-events-plugin.com//7.2.3.1//EN
TZID:America/Los_Angeles
X-WR-TIMEZONE:America/Los_Angeles
BEGIN:VEVENT
UID:237@malibugardenclub.org
DTSTART;TZID=America/Los_Angeles:20250512T120000
DTEND;TZID=America/Los_Angeles:20250512T140000
DTSTAMP:20250513T132335Z
URL:https://www.malibugardenclub.org/events/california-gardens-clubs-chann
 el-islands-district-luncheon-2/
SUMMARY:California Gardens Clubs Channel Islands District Luncheon
DESCRIPTION:You are invited to the California Garden Clubs Channel Islands
  District Luncheon. \n\nDetails\nDate: Monday\, May 12\, 2025\nTime: 12 PM
  Noon\nPlace: Spruzzo Restaurant in Malibu\nAddress: 29575 Pacific Coast H
 ighway\nParking: Members may park In the neighborhood shopping center wher
 e Spruzzo is located. Spruzzo Is on the corner of PCH and Busch Drive acro
 ss from the entrance to Zuma Beach. it is on the second floor (take the el
 evator) with an ocean view. You can also park on the west side of Bush Dri
 ve going north. Carpooling is recommended.\n\nSpruzzo is well known for it
 s delicious salads\, Italian food and ocean views. We have arranged for a 
 three course meal for $35.\n\nThe Channel Islands Luncheon was held at Spr
 uzzo Restaurant in Malibu on May 12\, 2025. There were representatives fro
 m the following Garden Clubs:\n\nConejo Valley\nMalibu Garden Club\nOjai V
 alley\nOrganic\nPleasant Valley\nWestlake Village\nVentura County\n\nIt wa
 s gratifying to meet other avid gardeners\, share gardening tips\,and hear
  reports from the President of each Club as to their progress and many act
 ivities.  An auction from plants brought by each club netted $280 for the 
 District.  \nEveryone enjoyed the convivial atmosphere and the delicious s
 alads\, pizzas and tiramisu that Spruzzos served.\n\nVentura County member
 s\n\n\n\n\n\n\n\n\nVentura County and Ojai Valley members\n\n\n\n\n\n\n\nW
 estlake and Kane Valley members\n\n\n\n\n\n\n\nMalibu Garden Club members\
 n\n\n\n\n\n\n\nDarcy Lorber\, Diana Lovejoy and Organic Garden Club member
 s\n\n\n\n\n\n\nShelley Kramer\, Bill and Terry Gessford\n\n\n\n\n\n\nColor
 ful cactus with Vivian Baer\n\n\n\n\n\n\n\nLuncheon Guests\n\n\n\n\n\n\n\n
 \n\n\n
ATTACH;FMTTYPE=image/jpeg:https://www.malibugardenclub.org/wp-content/uplo
 ads/1743158973069.jpg
CATEGORIES:Malibu Garden Club
LOCATION:Spruzzo Restaurant\, 29575 Pacific Coast Highway\, Malibu\, CA\, 9
 0265\, United States
X-APPLE-STRUCTURED-LOCATION;VALUE=URI;X-ADDRESS=29575 Pacific Coast Highway
 \, Malibu\, CA\, 90265\, United States;X-APPLE-RADIUS=100;X-TITLE=Spruzzo 
 Restaurant:geo:0,0
END:VEVENT
BEGIN:VTIMEZONE
TZID:America/Los_Angeles
X-LIC-LOCATION:America/Los_Angeles
BEGIN:DAYLIGHT
DTSTART:20250309T030000
TZOFFSETFROM:-0800
TZOFFSETTO:-0700
TZNAME:PDT
END:DAYLIGHT
END:VTIMEZONE
END:VCALENDAR