BEGIN:VCALENDAR
VERSION:2.0
PRODID:-//wp-events-plugin.com//7.2.3.1//EN
TZID:America/Los_Angeles
X-WR-TIMEZONE:America/Los_Angeles
BEGIN:VEVENT
UID:243@malibugardenclub.org
DTSTART;TZID=America/Los_Angeles:20260520T113000
DTEND;TZID=America/Los_Angeles:20260520T140000
DTSTAMP:20260308T115417Z
URL:https://www.malibugardenclub.org/events/california-garden-clubs-channe
 l-island-district-luncheon-fundraiser/
SUMMARY:California Garden Clubs Channel Island District Luncheon Fundraiser
DESCRIPTION:The California Garden Clubs Channel Island District Luncheon fu
 ndraiser is on May 20 in Thousand Oaks. Our Director will have just return
 ed from the CGCI Convention and will tell us all the news. Throughout the 
 Luncheon\, we will have a program of speakers to delight you with tales an
 d suggestions for creating your garden sanctuary.
ATTACH;FMTTYPE=image/jpeg:https://www.malibugardenclub.org/wp-content/uplo
 ads/1743158973069.jpg
CATEGORIES:Malibu Garden Club
END:VEVENT
BEGIN:VTIMEZONE
TZID:America/Los_Angeles
X-LIC-LOCATION:America/Los_Angeles
BEGIN:DAYLIGHT
DTSTART:20260308T030000
TZOFFSETFROM:-0800
TZOFFSETTO:-0700
TZNAME:PDT
END:DAYLIGHT
END:VTIMEZONE
END:VCALENDAR