BEGIN:VCALENDAR
VERSION:2.0
PRODID:-//wp-events-plugin.com//7.2.3.1//EN
TZID:America/Los_Angeles
X-WR-TIMEZONE:America/Los_Angeles
BEGIN:VEVENT
UID:142@malibugardenclub.org
DTSTART;TZID=America/Los_Angeles:20190629T100000
DTEND;TZID=America/Los_Angeles:20190630T170000
DTSTAMP:20190620T175319Z
URL:https://www.malibugardenclub.org/events/cactus-and-succulent-show-and-
 sale/
SUMMARY:Cactus and Succulent Show and Sale
DESCRIPTION:Hundreds of intriguing plants are on view as the Cactus and Suc
 culent Society of America presents its annual show and sale. With today's 
 growing interest in dry-climate gardening\, the event is a must for anyone
  wanting to learn more about these wonderfully diverse and visually striki
 ng plants.
ATTACH;FMTTYPE=image/jpeg:https://www.malibugardenclub.org/wp-content/uplo
 ads/cactus-succulents.jpg
CATEGORIES:Local Events
LOCATION:The Huntington Botanical Gardens\, 1151 Oxford Road\, San Marino\,
  CA\, 91108 \, United States
X-APPLE-STRUCTURED-LOCATION;VALUE=URI;X-ADDRESS=1151 Oxford Road\, San Mari
 no\, CA\, 91108 \, United States;X-APPLE-RADIUS=100;X-TITLE=The Huntington
  Botanical Gardens:geo:0,0
END:VEVENT
BEGIN:VTIMEZONE
TZID:America/Los_Angeles
X-LIC-LOCATION:America/Los_Angeles
BEGIN:DAYLIGHT
DTSTART:20190310T030000
TZOFFSETFROM:-0800
TZOFFSETTO:-0700
TZNAME:PDT
END:DAYLIGHT
END:VTIMEZONE
END:VCALENDAR