BEGIN:VCALENDAR
VERSION:2.0
PRODID:-//wp-events-plugin.com//7.2.3.1//EN
TZID:America/Los_Angeles
X-WR-TIMEZONE:America/Los_Angeles
BEGIN:VEVENT
UID:202@malibugardenclub.org
DTSTART;TZID=America/Los_Angeles:20200404T103000
DTEND;TZID=America/Los_Angeles:20200404T130000
DTSTAMP:20200317T103632Z
URL:https://www.malibugardenclub.org/events/blueberry-picking/
SUMMARY:Blueberry Picking - Cancelled
DESCRIPTION:Join the Malibu Garden Club as we go Blueberry picking at Gerry
  Ranch in Camarillo. Situated on top of a hill overlooking a valley of lem
 on and avocado trees\, fresh\, tasty\, luscious organic blueberries full o
 f antioxidants are growing. Plants grow in 8-gallon pots arranged in neat\
 , elevated rows convenient for waist-high picking under shade cloth. Picki
 ng buckets are provided and a golf cart will whisk you from the parking ar
 ea to the top of the hill.
ATTACH;FMTTYPE=image/jpeg:https://www.malibugardenclub.org/wp-content/uplo
 ads/Blueberry-Picking-Gessford.jpg
CATEGORIES:Malibu Garden Club
LOCATION:Gerry Ranch\, 9015 Rosita Road\, Camarillo\, California\, 93012\, 
 United States
X-APPLE-STRUCTURED-LOCATION;VALUE=URI;X-ADDRESS=9015 Rosita Road\, Camarill
 o\, California\, 93012\, United States;X-APPLE-RADIUS=100;X-TITLE=Gerry Ra
 nch:geo:0,0
END:VEVENT
BEGIN:VTIMEZONE
TZID:America/Los_Angeles
X-LIC-LOCATION:America/Los_Angeles
BEGIN:DAYLIGHT
DTSTART:20200308T030000
TZOFFSETFROM:-0800
TZOFFSETTO:-0700
TZNAME:PDT
END:DAYLIGHT
END:VTIMEZONE
END:VCALENDAR