BEGIN:VCALENDAR
VERSION:2.0
PRODID:-//wp-events-plugin.com//7.2.3.1//EN
TZID:America/Los_Angeles
X-WR-TIMEZONE:America/Los_Angeles
BEGIN:VEVENT
UID:14@malibugardenclub.org
DTSTART;TZID=America/Los_Angeles:20190330T100000
DTEND;TZID=America/Los_Angeles:20190330T120000
DTSTAMP:20190623T175351Z
URL:https://www.malibugardenclub.org/events/blueberry-picking-field-trip/
SUMMARY:Blueberry Picking - Field Trip
DESCRIPTION:On Saturday\, March 30th\, the Malibu Garden Club held a member
 s-only field trip to Gerry Ranch in Camarillo\, CA to pick blueberries.
ATTACH;FMTTYPE=image/jpeg:https://www.malibugardenclub.org/wp-content/uplo
 ads/blueberries.jpg
CATEGORIES:Malibu Garden Club
LOCATION:Gerry Ranch\, 9015 Rosita Road\, Camarillo\, California\, 93012\, 
 United States
X-APPLE-STRUCTURED-LOCATION;VALUE=URI;X-ADDRESS=9015 Rosita Road\, Camarill
 o\, California\, 93012\, United States;X-APPLE-RADIUS=100;X-TITLE=Gerry Ra
 nch:geo:0,0
END:VEVENT
BEGIN:VTIMEZONE
TZID:America/Los_Angeles
X-LIC-LOCATION:America/Los_Angeles
BEGIN:DAYLIGHT
DTSTART:20190310T030000
TZOFFSETFROM:-0800
TZOFFSETTO:-0700
TZNAME:PDT
END:DAYLIGHT
END:VTIMEZONE
END:VCALENDAR