BEGIN:VCALENDAR
VERSION:2.0
PRODID:-//wp-events-plugin.com//7.2.3.1//EN
TZID:America/Los_Angeles
X-WR-TIMEZONE:America/Los_Angeles
BEGIN:VEVENT
UID:236@malibugardenclub.org
DTSTART;TZID=America/Los_Angeles:20250328T103000
DTEND;TZID=America/Los_Angeles:20250328T133000
DTSTAMP:20250309T133359Z
URL:https://www.malibugardenclub.org/events/blueberry-picking-at-gerry-ran
 ch/
SUMMARY:Blueberry Picking at Gerry Ranch
DESCRIPTION:You may have thought blueberries only grew in Oregon\, Maine o
 r Chile. Think again! Fresh\, tasty\, luscious organic blueberries full of
  antioxidants are growing only 45 minutes away in Camarillo.
ATTACH;FMTTYPE=image/jpeg:https://www.malibugardenclub.org/wp-content/uplo
 ads/Blueberry-Picking-Gessford.jpg
CATEGORIES:Malibu Garden Club
LOCATION:Gerry Ranch\, 9015 Rosita Road\, Camarillo\, California\, 93012\, 
 United States
X-APPLE-STRUCTURED-LOCATION;VALUE=URI;X-ADDRESS=9015 Rosita Road\, Camarill
 o\, California\, 93012\, United States;X-APPLE-RADIUS=100;X-TITLE=Gerry Ra
 nch:geo:0,0
END:VEVENT
BEGIN:VTIMEZONE
TZID:America/Los_Angeles
X-LIC-LOCATION:America/Los_Angeles
BEGIN:DAYLIGHT
DTSTART:20250309T030000
TZOFFSETFROM:-0800
TZOFFSETTO:-0700
TZNAME:PDT
END:DAYLIGHT
END:VTIMEZONE
END:VCALENDAR