BEGIN:VCALENDAR
VERSION:2.0
PRODID:-//wp-events-plugin.com//7.2.3.1//EN
TZID:America/Los_Angeles
X-WR-TIMEZONE:America/Los_Angeles
BEGIN:VEVENT
UID:242@malibugardenclub.org
DTSTART;TZID=America/Los_Angeles:20260226T110000
DTEND;TZID=America/Los_Angeles:20260226T130000
DTSTAMP:20260220T231442Z
URL:https://www.malibugardenclub.org/events/blueberry-picking-3/
SUMMARY:Blueberry Picking
DESCRIPTION:RAIN&hellip\;RAIN&hellip\;RAIN&hellip\; It has been like 40 day
 s and 40 nights of rain. Now we have a 10 day weather forecast of sunny sk
 ies and warm temperatures. &nbsp\;Let&rsquo\;s take advantage of this suns
 hine and go Blueberry picking at Gerry Ranch in Camarillo and eat lunch at
  Latitude 34 Restaurant (Dutch Treat).\nFresh\, tasty\, luscious blueberri
 es full of antioxidants are growing only 45 minutes away in Camarillo. Sit
 uated on top of a hill overlooking a valley of lemon and avocado trees\, i
 s a 10-acre plot with blueberry plants growing in 8-gallon pots arranged i
 n neat elevated rows\, convenient for waist-high picking. Picking buckets 
 are provided.\n\nHow to Get There\n\nTake the 101 Freeway to Camarillo. Ge
 t off at Pleasant Valley Road/Santa Rosa Road and go north. Go about 4 mil
 es and turn left on Gerry Road. Follow the Gerry Ranch signs about 1/2 mil
 e and park for U-Pick Blueberries. Address: Gerry Ranch\, 9015 Rosita Road
 \, Camarillo\, CA.\n\nLunch\n\nAfter picking blueberries\, which are reaso
 nably priced\, we will proceed to&nbsp\;eat lunch (dutch treat) at Camaril
 lo&#39\;s Factory Outlets restaurant Latitude 34.\n\nTo get&nbsp\;there\, 
 take the 101 Freeway west about 5 miles to the Las Posas offramp. Turn lef
 t and go back over the freeway to the first light\, which is Ventura Boule
 vard. Turn left and go a block to the next light. Turn right and&nbsp\;pro
 ceed pass Finneys Restaurant&nbsp\;and turn left into Latitude 34&#39\;s p
 arking area. It is next to Pick Up Sticks and Chipotle.\n\nLatitude 34 is 
 a culinary delight. The lunches are about $20. Go to L34camarillo.com&nbsp
 \;to see their menu&nbsp\; and location.\n\nPLEASE RSVP&nbsp\;to Glen Gess
 ford by email or by text. This is a member-only event. If you wish to join
 \, go to mailbugardenclub.org/membership and pay your dues.\n\nHope to see
  you soon.\n\nGlen Gessford\nPresident\nMalibu Garden Club
ATTACH;FMTTYPE=image/jpeg:https://www.malibugardenclub.org/wp-content/uplo
 ads/Blueberry-Picking-Gessford.jpg
CATEGORIES:Malibu Garden Club
END:VEVENT
BEGIN:VTIMEZONE
TZID:America/Los_Angeles
X-LIC-LOCATION:America/Los_Angeles
BEGIN:STANDARD
DTSTART:20251102T010000
TZOFFSETFROM:-0700
TZOFFSETTO:-0800
TZNAME:PST
END:STANDARD
END:VTIMEZONE
END:VCALENDAR