BEGIN:VCALENDAR
VERSION:2.0
PRODID:-//wp-events-plugin.com//7.2.3.1//EN
TZID:America/Los_Angeles
X-WR-TIMEZONE:America/Los_Angeles
BEGIN:VEVENT
UID:226@malibugardenclub.org
DTSTART;TZID=America/Los_Angeles:20230420T120000
DTEND;TZID=America/Los_Angeles:20230420T140000
DTSTAMP:20230422T131102Z
URL:https://www.malibugardenclub.org/events/blueberry-picking-2/
SUMMARY:Blueberry Picking
DESCRIPTION:You may have thought blueberries only grew in Oregon\, Maine or
  Chile. Think again! Fresh\, tasty\, lucious organic blueberries full of a
 ntioxidants are growing only 45 minutes away in Camarillo at Gerry Ranch.
ATTACH;FMTTYPE=image/jpeg:https://www.malibugardenclub.org/wp-content/uplo
 ads/Blueberry-Picking-Gessford.jpg
CATEGORIES:Malibu Garden Club
END:VEVENT
BEGIN:VTIMEZONE
TZID:America/Los_Angeles
X-LIC-LOCATION:America/Los_Angeles
BEGIN:DAYLIGHT
DTSTART:20230312T030000
TZOFFSETFROM:-0800
TZOFFSETTO:-0700
TZNAME:PDT
END:DAYLIGHT
END:VTIMEZONE
END:VCALENDAR