BEGIN:VCALENDAR
VERSION:2.0
PRODID:-//wp-events-plugin.com//7.2.3.1//EN
TZID:America/Los_Angeles
X-WR-TIMEZONE:America/Los_Angeles
BEGIN:VEVENT
UID:9@malibugardenclub.org
DTSTART;TZID=America/Los_Angeles:20190824T090000
DTEND;TZID=America/Los_Angeles:20190824T170000
DTSTAMP:20190609T131500Z
URL:https://www.malibugardenclub.org/events/begonia-show-sale/
SUMMARY:Begonia Show & Sale
DESCRIPTION:Hosted by the Palos Verdes Begonia Society. Begonias are among 
 the favorite foliage plants of gardeners and horticulturalists. They are f
 ound in rainforests and prefer a semi-shady location. Begonias do very wel
 l in Southern California. They are especially attractive in pots but also 
 thrive planted in the garden. Join us for this Show & Sale and get some fo
 r your own home!
ATTACH;FMTTYPE=image/jpeg:https://www.malibugardenclub.org/wp-content/uplo
 ads/begonias.jpg
CATEGORIES:Local Events
LOCATION:South Coast Botanic Garden\, 26300 Crenshaw Boulevard\, Palos Verd
 es Peninsula\, California\, 90274\, United States
X-APPLE-STRUCTURED-LOCATION;VALUE=URI;X-ADDRESS=26300 Crenshaw Boulevard\, 
 Palos Verdes Peninsula\, California\, 90274\, United States;X-APPLE-RADIUS
 =100;X-TITLE=South Coast Botanic Garden:geo:0,0
END:VEVENT
BEGIN:VTIMEZONE
TZID:America/Los_Angeles
X-LIC-LOCATION:America/Los_Angeles
BEGIN:DAYLIGHT
DTSTART:20190310T030000
TZOFFSETFROM:-0800
TZOFFSETTO:-0700
TZNAME:PDT
END:DAYLIGHT
END:VTIMEZONE
END:VCALENDAR