BEGIN:VCALENDAR
VERSION:2.0
PRODID:-//wp-events-plugin.com//7.2.3.1//EN
TZID:America/Los_Angeles
X-WR-TIMEZONE:America/Los_Angeles
BEGIN:VEVENT
UID:180@malibugardenclub.org
DTSTART;TZID=America/Los_Angeles:20191212T143000
DTEND;TZID=America/Los_Angeles:20191212T153000
DTSTAMP:20190926T134753Z
URL:https://www.malibugardenclub.org/events/be-bold-designing-with-native-
 plants/
SUMMARY:Be Bold! Designing with Native Plants
DESCRIPTION:Mike Evans\, the founder of Tree of Life Nursery\, discusses wa
 ys to boldly break away from the simplistic\, homogenous style of garden d
 esign so often seen today and create unique\, truly diverse landscapes wit
 h native plants. A plant sale follows the talk.
ATTACH;FMTTYPE=image/jpeg:https://www.malibugardenclub.org/wp-content/uplo
 ads/TPF-native.jpg
CATEGORIES:Local Events
LOCATION:The Huntington Botanical Gardens\, 1151 Oxford Road\, San Marino\,
  CA\, 91108 \, United States
X-APPLE-STRUCTURED-LOCATION;VALUE=URI;X-ADDRESS=1151 Oxford Road\, San Mari
 no\, CA\, 91108 \, United States;X-APPLE-RADIUS=100;X-TITLE=The Huntington
  Botanical Gardens:geo:0,0
END:VEVENT
BEGIN:VTIMEZONE
TZID:America/Los_Angeles
X-LIC-LOCATION:America/Los_Angeles
BEGIN:STANDARD
DTSTART:20191103T010000
TZOFFSETFROM:-0700
TZOFFSETTO:-0800
TZNAME:PST
END:STANDARD
END:VTIMEZONE
END:VCALENDAR