BEGIN:VCALENDAR
VERSION:2.0
PRODID:-//wp-events-plugin.com//7.2.3.1//EN
TZID:America/Los_Angeles
X-WR-TIMEZONE:America/Los_Angeles
BEGIN:VEVENT
UID:77@malibugardenclub.org
DTSTART;TZID=America/Los_Angeles:20130102T190000
DTEND;TZID=America/Los_Angeles:20130102T210000
DTSTAMP:20190623T165218Z
URL:https://www.malibugardenclub.org/events/balconies-and-courtyards-of-th
 e-french-quarter-in-new-orleans/
SUMMARY:Balconies and Courtyards of the French Quarter in New Orleans
DESCRIPTION:New member Gregory Finsley presented on Balconies and Courtyard
 s of the French Quarter in New Orleans. The French Quarter balconies he to
 ok to liking even more\, along with the quaint courtyards that exist somet
 imes unnoticed but elegantly adorned.
ATTACH;FMTTYPE=image/jpeg:https://www.malibugardenclub.org/wp-content/uplo
 ads/French-Quarter-Courtyard.jpg
CATEGORIES:Malibu Garden Club
LOCATION:Point Dume Club House\, 29500 Heathercliff Drive\, Malibu\, Califo
 rnia\, 90265\, United States
X-APPLE-STRUCTURED-LOCATION;VALUE=URI;X-ADDRESS=29500 Heathercliff Drive\, 
 Malibu\, California\, 90265\, United States;X-APPLE-RADIUS=100;X-TITLE=Poi
 nt Dume Club House:geo:0,0
END:VEVENT
BEGIN:VTIMEZONE
TZID:America/Los_Angeles
X-LIC-LOCATION:America/Los_Angeles
BEGIN:STANDARD
DTSTART:20121104T010000
TZOFFSETFROM:-0700
TZOFFSETTO:-0800
TZNAME:PST
END:STANDARD
END:VTIMEZONE
END:VCALENDAR