BEGIN:VCALENDAR
VERSION:2.0
PRODID:-//wp-events-plugin.com//7.2.3.1//EN
TZID:America/Los_Angeles
X-WR-TIMEZONE:America/Los_Angeles
BEGIN:VEVENT
UID:26@malibugardenclub.org
DTSTART;TZID=America/Los_Angeles:20180404T000000
DTEND;TZID=America/Los_Angeles:20180404T000000
DTSTAMP:20190623T180142Z
URL:https://www.malibugardenclub.org/events/attracting-bees-butterflies-an
 d-birds-to-your-garden/
SUMMARY:Attracting Bees\, Butterflies and Birds to your Garden
DESCRIPTION:For our April 2018 event\, Dani Brusius presented Attracting Be
 es\, Butterflies\, and Birds to your Garden. She gave ideas on how to desi
 gn and maintain such a garden.
ATTACH;FMTTYPE=image/jpeg:https://www.malibugardenclub.org/wp-content/uplo
 ads/attracting-bees.jpg
CATEGORIES:Malibu Garden Club
LOCATION:Point Dume Club House\, 29500 Heathercliff Drive\, Malibu\, Califo
 rnia\, 90265\, United States
X-APPLE-STRUCTURED-LOCATION;VALUE=URI;X-ADDRESS=29500 Heathercliff Drive\, 
 Malibu\, California\, 90265\, United States;X-APPLE-RADIUS=100;X-TITLE=Poi
 nt Dume Club House:geo:0,0
END:VEVENT
BEGIN:VTIMEZONE
TZID:America/Los_Angeles
X-LIC-LOCATION:America/Los_Angeles
BEGIN:DAYLIGHT
DTSTART:20180311T030000
TZOFFSETFROM:-0800
TZOFFSETTO:-0700
TZNAME:PDT
END:DAYLIGHT
END:VTIMEZONE
END:VCALENDAR