BEGIN:VCALENDAR
VERSION:2.0
PRODID:-//wp-events-plugin.com//7.2.3.1//EN
TZID:America/Los_Angeles
X-WR-TIMEZONE:America/Los_Angeles
BEGIN:VEVENT
UID:49@malibugardenclub.org
DTSTART;TZID=America/Los_Angeles:20151117T100000
DTEND;TZID=America/Los_Angeles:20151117T120000
DTSTAMP:20190623T174738Z
URL:https://www.malibugardenclub.org/events/arnolds-backyard-orchard-field
 -trip/
SUMMARY:Arnold's Backyard Orchard - Field Trip
DESCRIPTION:For this members-only field trip\, attendees visited the backya
 rd orchard of garden club member Arnold Bernstein.
ATTACH;FMTTYPE=image/jpeg:https://www.malibugardenclub.org/wp-content/uplo
 ads/orchard.jpg
CATEGORIES:Malibu Garden Club
END:VEVENT
BEGIN:VTIMEZONE
TZID:America/Los_Angeles
X-LIC-LOCATION:America/Los_Angeles
BEGIN:STANDARD
DTSTART:20151101T010000
TZOFFSETFROM:-0700
TZOFFSETTO:-0800
TZNAME:PST
END:STANDARD
END:VTIMEZONE
END:VCALENDAR