BEGIN:VCALENDAR
VERSION:2.0
PRODID:-//wp-events-plugin.com//7.2.3.1//EN
TZID:America/Los_Angeles
X-WR-TIMEZONE:America/Los_Angeles
BEGIN:VEVENT
UID:152@malibugardenclub.org
DTSTART;TZID=America/Los_Angeles:20190914T093000
DTEND;TZID=America/Los_Angeles:20190914T150000
DTSTAMP:20190620T193109Z
URL:https://www.malibugardenclub.org/events/apld-greater-los-angeles-desig
 ner-plant-fair/
SUMMARY:APLD Greater Los Angeles Designer Plant Fair
DESCRIPTION:Browse and mingle with the nursery folks and other landscape pr
 ofessionals\, enjoy refreshments and learn pertinent details about the bes
 t new landscape plants for 2020 during the presentation session with the g
 rowers.
ATTACH;FMTTYPE=image/jpeg:https://www.malibugardenclub.org/wp-content/uplo
 ads/aloe.jpg
CATEGORIES:Local Events
LOCATION:Los Angeles County Arboretum and Botanic Garden\, 301 North Baldwi
 n Ave\, Arcadia\, CA\, 91007\, United States
X-APPLE-STRUCTURED-LOCATION;VALUE=URI;X-ADDRESS=301 North Baldwin Ave\, Arc
 adia\, CA\, 91007\, United States;X-APPLE-RADIUS=100;X-TITLE=Los Angeles C
 ounty Arboretum and Botanic Garden:geo:0,0
END:VEVENT
BEGIN:VTIMEZONE
TZID:America/Los_Angeles
X-LIC-LOCATION:America/Los_Angeles
BEGIN:DAYLIGHT
DTSTART:20190310T030000
TZOFFSETFROM:-0800
TZOFFSETTO:-0700
TZNAME:PDT
END:DAYLIGHT
END:VTIMEZONE
END:VCALENDAR