BEGIN:VCALENDAR
VERSION:2.0
PRODID:-//wp-events-plugin.com//7.2.3.1//EN
TZID:America/Los_Angeles
X-WR-TIMEZONE:America/Los_Angeles
BEGIN:VEVENT
UID:210@malibugardenclub.org
DTSTART;TZID=America/Los_Angeles:20200425T130000
DTEND;TZID=America/Los_Angeles:20200426T170000
DTSTAMP:20200308T144643Z
URL:https://www.malibugardenclub.org/events/annual-spring-plant-sale/
SUMMARY:Annual Spring Plant Sale
DESCRIPTION:Give your garden a fresh look for spring! Inspiring ideas and t
 housands of great plants abound at The Huntington's popular annual sale. T
 his year features a wide variety of shrubs\, groundcovers\, and ornamental
  trees for the landscape\; water-wise succulents and southwestern natives\
 ; vegetable seedlings\, herbs\, and fruit trees\; collectible cacti and tr
 opicals\; roses galore\; and much more.
ATTACH;FMTTYPE=image/jpeg:https://www.malibugardenclub.org/wp-content/uplo
 ads/Plant-Sale-02.jpg
CATEGORIES:Local Events
LOCATION:The Huntington Botanical Gardens\, 1151 Oxford Road\, San Marino\,
  CA\, 91108 \, United States
X-APPLE-STRUCTURED-LOCATION;VALUE=URI;X-ADDRESS=1151 Oxford Road\, San Mari
 no\, CA\, 91108 \, United States;X-APPLE-RADIUS=100;X-TITLE=The Huntington
  Botanical Gardens:geo:0,0
END:VEVENT
BEGIN:VTIMEZONE
TZID:America/Los_Angeles
X-LIC-LOCATION:America/Los_Angeles
BEGIN:DAYLIGHT
DTSTART:20200308T030000
TZOFFSETFROM:-0800
TZOFFSETTO:-0700
TZNAME:PDT
END:DAYLIGHT
END:VTIMEZONE
END:VCALENDAR