BEGIN:VCALENDAR
VERSION:2.0
PRODID:-//wp-events-plugin.com//7.2.3.1//EN
TZID:America/Los_Angeles
X-WR-TIMEZONE:America/Los_Angeles
BEGIN:VEVENT
UID:107@malibugardenclub.org
DTSTART;TZID=America/Los_Angeles:20100515T100000
DTEND;TZID=America/Los_Angeles:20100515T150000
DTSTAMP:20190623T164530Z
URL:https://www.malibugardenclub.org/events/annual-malibu-garden-tour/
SUMMARY:Annual Malibu Garden Tour
DESCRIPTION:Annual Garden Tour & presentation / recognition of student reci
 pients of our annual scholarships.
ATTACH;FMTTYPE=image/jpeg:https://www.malibugardenclub.org/wp-content/uplo
 ads/malibu-garden-1.jpg
CATEGORIES:Malibu Garden Club
END:VEVENT
BEGIN:VTIMEZONE
TZID:America/Los_Angeles
X-LIC-LOCATION:America/Los_Angeles
BEGIN:DAYLIGHT
DTSTART:20100314T030000
TZOFFSETFROM:-0800
TZOFFSETTO:-0700
TZNAME:PDT
END:DAYLIGHT
END:VTIMEZONE
END:VCALENDAR