BEGIN:VCALENDAR
VERSION:2.0
PRODID:-//wp-events-plugin.com//7.2.3.1//EN
TZID:America/Los_Angeles
X-WR-TIMEZONE:America/Los_Angeles
BEGIN:VEVENT
UID:128@malibugardenclub.org
DTSTART;TZID=America/Los_Angeles:20080517T190000
DTEND;TZID=America/Los_Angeles:20080517T210000
DTSTAMP:20190623T162820Z
URL:https://www.malibugardenclub.org/events/annual-malibu-garden-tour-2/
SUMMARY:Annual Malibu Garden Tour
DESCRIPTION:The Tour is always spectacular and the major fundraiser for Mal
 ibu Garden Club.
ATTACH;FMTTYPE=image/jpeg:https://www.malibugardenclub.org/wp-content/uplo
 ads/malibu-gardens.jpg
CATEGORIES:Malibu Garden Club
END:VEVENT
BEGIN:VTIMEZONE
TZID:America/Los_Angeles
X-LIC-LOCATION:America/Los_Angeles
BEGIN:DAYLIGHT
DTSTART:20080309T030000
TZOFFSETFROM:-0800
TZOFFSETTO:-0700
TZNAME:PDT
END:DAYLIGHT
END:VTIMEZONE
END:VCALENDAR