BEGIN:VCALENDAR
VERSION:2.0
PRODID:-//wp-events-plugin.com//7.2.3.1//EN
TZID:America/Los_Angeles
X-WR-TIMEZONE:America/Los_Angeles
BEGIN:VEVENT
UID:11@malibugardenclub.org
DTSTART;TZID=America/Los_Angeles:20191019T100000
DTEND;TZID=America/Los_Angeles:20191020T160000
DTSTAMP:20190609T125934Z
URL:https://www.malibugardenclub.org/events/annual-fall-plant-sale/
SUMMARY:Annual Fall Plant Sale
DESCRIPTION:At San Diego Botanic Garden’s Annual Fall Plant Sale\, plant 
 lovers can choose from thousands of unique\, exotic\, unusual and drought-
 tolerant plants\, as well as California natives\, herbs\, succulents\, ann
 uals\, perennials and SO much more!
ATTACH;FMTTYPE=image/jpeg:https://www.malibugardenclub.org/wp-content/uplo
 ads/San-Diego-Botanic-Gardens.jpg
CATEGORIES:Local Events
LOCATION:San Diego Botanic Garden\, 230 Quail Gardens Dr.\, Encinitas\, Cal
 ifornia\, 92024\, United States
X-APPLE-STRUCTURED-LOCATION;VALUE=URI;X-ADDRESS=230 Quail Gardens Dr.\, Enc
 initas\, California\, 92024\, United States;X-APPLE-RADIUS=100;X-TITLE=San
  Diego Botanic Garden:geo:0,0
END:VEVENT
BEGIN:VTIMEZONE
TZID:America/Los_Angeles
X-LIC-LOCATION:America/Los_Angeles
BEGIN:DAYLIGHT
DTSTART:20190310T030000
TZOFFSETFROM:-0800
TZOFFSETTO:-0700
TZNAME:PDT
END:DAYLIGHT
END:VTIMEZONE
END:VCALENDAR