BEGIN:VCALENDAR
VERSION:2.0
PRODID:-//wp-events-plugin.com//7.2.3.1//EN
TZID:America/Los_Angeles
X-WR-TIMEZONE:America/Los_Angeles
BEGIN:VEVENT
UID:230@malibugardenclub.org
DTSTART;TZID=America/Los_Angeles:20240212T114500
DTEND;TZID=America/Los_Angeles:20240212T144500
DTSTAMP:20240214T181910Z
URL:https://www.malibugardenclub.org/events/annenberg-house-with-lunch/
SUMMARY:Tour of Annenberg Community Beach House with Lunch
DESCRIPTION:This event has reached capacity.\nLet’s take a step back in t
 ime. It was back in the 20s\, the time of the Charleston and the flapper g
 irls \, when William Randolph Hearst built a beach mansion in Santa Monica
  for his mistress Marion Davies who was a showgirl and actress.  Hearst an
 d Davies entertained luminaries from Hollywood such as Charlie Chaplin\, G
 reta Garbo\, Clark Gable\, and other stars of the day at this beach house.
 \n\nWe are going to tour this historic beach house as it exists today (it 
 is called Annenberg Community Beach House) and then have lunch at Back to 
 the Beach Cafe as follows:\n\nNew Date: Monday\, February 12\nTime: 11:45 
 AM\nPlace:  415 Pacific Coast Highway \, Santa Monica\nDirections: Take  P
 acific Coast Highway past Chautauqua and Santa Monica Bay Club to a stopli
 ght and a sign on your right that says Annenberg Community Beach House.  T
 urn right into that parking lot and park and pay a small fee\,   Follow th
 e signs to the entrance of the Beach House where a tour guide will meet us
 . The tour is from 12 to 2 and only 25 people are allowed on the tour. We 
 suggest carpooling if you can.\n\nLunch\nAfter the tour\, walk across the 
 parking lot towards the beach to the iconic Back to the Beach Cafe. Their 
 food is fabulous and they are located right on the beach. We will be seate
 d inside their dining room. We will have a fixed price menu of $30 dutch t
 reat which includes your choice of one of these four entrees as follows:\n
 \n\n	Chicken Apple Salad\n\n	Back on the Beach Burger\n	\nSalmon Burger\n\
 n	Grilled Fish Taco\n\n\n\nPlus\, a nonalcoholic drink\, a cookie tray se
 lection\, and tax and tip.\n\nBecause the tour is limited to 25 people\, t
 he first 25 members who respond to this email to me by text or email will 
 be eligible for this event. Only members of the Malibu Garden Club can att
 end.\n\nRegards\,\n\nGlen Gessford\nPresident\, Malibu Garden Club \n\nAnn
 enberg Beach House Review \nIf only these walls could talk.  These walls d
 id talk to the Malibu Garden Club through the many naughty and nice storie
 s of what went on here as told by the Annenberg Beach House docents  It wa
 s like being a fly in the room on the wall where it happened. The 100 room
  beach mansion built by William Randolph Hearst for his mistress Marion Da
 vies in the 1920s became the place for many parties. In fact\, this was pa
 rty central for the Hollywood elite.  \n\nAfter the entertaining tours giv
 en by the docents\,  we walked over to the Back on the Beach Cafe .  We ha
 d our choice of grilled fish tacos\, salmon\, burger\, black bean mushroom
  burger\, back on the beach. burger or chicken apple goat\, cheese salad. 
  Any one of them was delicious and delectable.\n\nFollowing are some photo
 s of the event.\n\n\n\n\n\n\n\n\n\n\n\n\n\n
ATTACH;FMTTYPE=image/jpeg:https://www.malibugardenclub.org/wp-content/uplo
 ads/Annenberg-House-002.jpg
CATEGORIES:Malibu Garden Club
LOCATION:Annenberg House\, 415 Pacific Coast Highway\, Santa Monica\, CA\, 
 90402 \, United States
X-APPLE-STRUCTURED-LOCATION;VALUE=URI;X-ADDRESS=415 Pacific Coast Highway\,
  Santa Monica\, CA\, 90402 \, United States;X-APPLE-RADIUS=100;X-TITLE=Ann
 enberg House:geo:0,0
END:VEVENT
BEGIN:VTIMEZONE
TZID:America/Los_Angeles
X-LIC-LOCATION:America/Los_Angeles
BEGIN:STANDARD
DTSTART:20231105T010000
TZOFFSETFROM:-0700
TZOFFSETTO:-0800
TZNAME:PST
END:STANDARD
END:VTIMEZONE
END:VCALENDAR