BEGIN:VCALENDAR
VERSION:2.0
PRODID:-//wp-events-plugin.com//7.2.3.1//EN
TZID:America/Los_Angeles
X-WR-TIMEZONE:America/Los_Angeles
BEGIN:VEVENT
UID:27@malibugardenclub.org
DTSTART;TZID=America/Los_Angeles:20180307T093000
DTEND;TZID=America/Los_Angeles:20180307T120000
DTSTAMP:20190623T180234Z
URL:https://www.malibugardenclub.org/events/an-introduction-to-clivias/
SUMMARY:An Introduction to Clivias
DESCRIPTION:For our March event\, Malcolm Shrimplin presented An Introducti
 on to Clivias. Malcolm brought 2 to 3 year old clivia seedlings for sale a
 t discount prices plus free clivia seeds. Besides the standard orange and 
 yellow clivia\, there is a variety of new colors which have been created.
ATTACH;FMTTYPE=image/jpeg:https://www.malibugardenclub.org/wp-content/uplo
 ads/clivias.jpg
CATEGORIES:Malibu Garden Club
LOCATION:Point Dume Club House\, 29500 Heathercliff Drive\, Malibu\, Califo
 rnia\, 90265\, United States
X-APPLE-STRUCTURED-LOCATION;VALUE=URI;X-ADDRESS=29500 Heathercliff Drive\, 
 Malibu\, California\, 90265\, United States;X-APPLE-RADIUS=100;X-TITLE=Poi
 nt Dume Club House:geo:0,0
END:VEVENT
BEGIN:VTIMEZONE
TZID:America/Los_Angeles
X-LIC-LOCATION:America/Los_Angeles
BEGIN:STANDARD
DTSTART:20171105T010000
TZOFFSETFROM:-0700
TZOFFSETTO:-0800
TZNAME:PST
END:STANDARD
END:VTIMEZONE
END:VCALENDAR