BEGIN:VCALENDAR
VERSION:2.0
PRODID:-//wp-events-plugin.com//7.2.3.1//EN
TZID:America/Los_Angeles
X-WR-TIMEZONE:America/Los_Angeles
BEGIN:VEVENT
UID:6@malibugardenclub.org
DTSTART;TZID=America/Los_Angeles:20190501T093000
DTEND;TZID=America/Los_Angeles:20190501T120000
DTSTAMP:20190623T175118Z
URL:https://www.malibugardenclub.org/events/amazing-succulents-growing-and
 -propagating/
SUMMARY:Amazing Succulents - Growing and Propagating
DESCRIPTION:For our May 2019 event\, Marsha Meeker presented "Amazing Succu
 lents - Growing and Propagating." Marsha fell in love with succulents in 1
 972 when moved from Oregon and she first saw ice plant along the freeway. 
  She teaches classes in plant propagation and all about succulents.
ATTACH;FMTTYPE=image/jpeg:https://www.malibugardenclub.org/wp-content/uplo
 ads/succulents-masthead.jpg
CATEGORIES:Malibu Garden Club
LOCATION:Point Dume Club House\, 29500 Heathercliff Drive\, Malibu\, Califo
 rnia\, 90265\, United States
X-APPLE-STRUCTURED-LOCATION;VALUE=URI;X-ADDRESS=29500 Heathercliff Drive\, 
 Malibu\, California\, 90265\, United States;X-APPLE-RADIUS=100;X-TITLE=Poi
 nt Dume Club House:geo:0,0
END:VEVENT
BEGIN:VTIMEZONE
TZID:America/Los_Angeles
X-LIC-LOCATION:America/Los_Angeles
BEGIN:DAYLIGHT
DTSTART:20190310T030000
TZOFFSETFROM:-0800
TZOFFSETTO:-0700
TZNAME:PDT
END:DAYLIGHT
END:VTIMEZONE
END:VCALENDAR