BEGIN:VCALENDAR
VERSION:2.0
PRODID:-//wp-events-plugin.com//7.2.3.1//EN
TZID:America/Los_Angeles
X-WR-TIMEZONE:America/Los_Angeles
BEGIN:VEVENT
UID:120@malibugardenclub.org
DTSTART;TZID=America/Los_Angeles:20090304T190000
DTEND;TZID=America/Los_Angeles:20090304T210000
DTSTAMP:20190623T161006Z
URL:https://www.malibugardenclub.org/events/a-z-native-plant-gardening/
SUMMARY:A-Z Native Plant Gardening
DESCRIPTION:For our March meeting\, Elizabeth Schwartz from the Theodore Pa
 yne Foundation provided information on native plant gardening through her 
 lecture and presentation. Elizabeth is a walking encyclopedia on native pl
 ants and attendees had plenty of questions for her.
ATTACH;FMTTYPE=image/jpeg:https://www.malibugardenclub.org/wp-content/uplo
 ads/california-native-plants.jpg
CATEGORIES:Malibu Garden Club
LOCATION:Point Dume Club House\, 29500 Heathercliff Drive\, Malibu\, Califo
 rnia\, 90265\, United States
X-APPLE-STRUCTURED-LOCATION;VALUE=URI;X-ADDRESS=29500 Heathercliff Drive\, 
 Malibu\, California\, 90265\, United States;X-APPLE-RADIUS=100;X-TITLE=Poi
 nt Dume Club House:geo:0,0
END:VEVENT
BEGIN:VTIMEZONE
TZID:America/Los_Angeles
X-LIC-LOCATION:America/Los_Angeles
BEGIN:STANDARD
DTSTART:20081102T010000
TZOFFSETFROM:-0700
TZOFFSETTO:-0800
TZNAME:PST
END:STANDARD
END:VTIMEZONE
END:VCALENDAR