BEGIN:VCALENDAR
VERSION:2.0
PRODID:-//wp-events-plugin.com//7.2.3.1//EN
TZID:America/Los_Angeles
X-WR-TIMEZONE:America/Los_Angeles
BEGIN:VEVENT
UID:166@malibugardenclub.org
DTSTART;TZID=America/Los_Angeles:20191021T091500
DTEND;TZID=America/Los_Angeles:20191021T110000
DTSTAMP:20190926T104314Z
URL:https://www.malibugardenclub.org/events/a-tale-of-two-floras/
SUMMARY:A Tale of Two Floras: Botanical Adventures at Home and Abroad
DESCRIPTION:The Los Angeles Garden Club presents Evan Meyer as he shares st
 ories of his travels throughout California and a recent expedition to the 
 Western Cape of South Africa. Evan will compare these two remarkable parts
  of the world\, and describe how LA gardeners can diversify and beautify t
 heir gardens with the unique plants of these regions.
ATTACH;FMTTYPE=image/jpeg:https://www.malibugardenclub.org/wp-content/uplo
 ads/California-native-landscaping.jpg
CATEGORIES:Local Events
LOCATION:Griffith Park Visitor's Center\, 4730 Crystal Springs Drive\, Los 
 Angeles\, California\, 90027\, United States
X-APPLE-STRUCTURED-LOCATION;VALUE=URI;X-ADDRESS=4730 Crystal Springs Drive\
 , Los Angeles\, California\, 90027\, United States;X-APPLE-RADIUS=100;X-TI
 TLE=Griffith Park Visitor's Center:geo:0,0
END:VEVENT
BEGIN:VTIMEZONE
TZID:America/Los_Angeles
X-LIC-LOCATION:America/Los_Angeles
BEGIN:DAYLIGHT
DTSTART:20190310T030000
TZOFFSETFROM:-0800
TZOFFSETTO:-0700
TZNAME:PDT
END:DAYLIGHT
END:VTIMEZONE
END:VCALENDAR