BEGIN:VCALENDAR
VERSION:2.0
PRODID:-//wp-events-plugin.com//7.2.3.1//EN
TZID:America/Los_Angeles
X-WR-TIMEZONE:America/Los_Angeles
BEGIN:VEVENT
UID:62@malibugardenclub.org
DTSTART;TZID=America/Los_Angeles:20140507T190000
DTEND;TZID=America/Los_Angeles:20140507T210000
DTSTAMP:20190623T171554Z
URL:https://www.malibugardenclub.org/events/a-stroll-through-the-chelsea-f
 lower-show/
SUMMARY:A Stroll through the Chelsea Flower Show
DESCRIPTION:For our May event\, Birute Anne Vileisis\, Ph.D. presented on t
 he Chelsea Flower Show. The flower show is the most famous flower show in 
 the U.K. and perhaps in the world attracting a worldwide audience of 157\,
 000 visitors each year.
ATTACH;FMTTYPE=image/jpeg:https://www.malibugardenclub.org/wp-content/uplo
 ads/Chelsea-Flower-Show.jpg
CATEGORIES:Malibu Garden Club
LOCATION:Point Dume Club House\, 29500 Heathercliff Drive\, Malibu\, Califo
 rnia\, 90265\, United States
X-APPLE-STRUCTURED-LOCATION;VALUE=URI;X-ADDRESS=29500 Heathercliff Drive\, 
 Malibu\, California\, 90265\, United States;X-APPLE-RADIUS=100;X-TITLE=Poi
 nt Dume Club House:geo:0,0
END:VEVENT
BEGIN:VTIMEZONE
TZID:America/Los_Angeles
X-LIC-LOCATION:America/Los_Angeles
BEGIN:DAYLIGHT
DTSTART:20140309T030000
TZOFFSETFROM:-0800
TZOFFSETTO:-0700
TZNAME:PDT
END:DAYLIGHT
END:VTIMEZONE
END:VCALENDAR