BEGIN:VCALENDAR
VERSION:2.0
PRODID:-//wp-events-plugin.com//7.2.3.1//EN
TZID:America/Los_Angeles
X-WR-TIMEZONE:America/Los_Angeles
BEGIN:VEVENT
UID:241@malibugardenclub.org
DTSTART;TZID=America/Los_Angeles:20260111T130000
DTEND;TZID=America/Los_Angeles:20260111T163000
DTSTAMP:20260113T120117Z
URL:https://www.malibugardenclub.org/events/a-new-years-day-presidents-lun
 cheon-and-reception/
SUMMARY:A New Years President's Luncheon and Reception
DESCRIPTION:Come and enjoy a New Year's Celebration Luncheon and Reception 
 with your fellow Club members. You can stroll around succulent gardens an
 d see spectacular views of Boney Ridge and the Channel Islands.
ATTACH;FMTTYPE=image/jpeg:https://www.malibugardenclub.org/wp-content/uplo
 ads/glen-gessford-home-cover.jpg
CATEGORIES:Malibu Garden Club
END:VEVENT
BEGIN:VTIMEZONE
TZID:America/Los_Angeles
X-LIC-LOCATION:America/Los_Angeles
BEGIN:STANDARD
DTSTART:20251102T010000
TZOFFSETFROM:-0700
TZOFFSETTO:-0800
TZNAME:PST
END:STANDARD
END:VTIMEZONE
END:VCALENDAR