BEGIN:VCALENDAR
VERSION:2.0
PRODID:-//wp-events-plugin.com//7.2.3.1//EN
TZID:America/Los_Angeles
X-WR-TIMEZONE:America/Los_Angeles
BEGIN:VEVENT
UID:234@malibugardenclub.org
DTSTART;TZID=America/Los_Angeles:20250101T130000
DTEND;TZID=America/Los_Angeles:20250101T153000
DTSTAMP:20250103T131625Z
URL:https://www.malibugardenclub.org/events/a-new-years-day-celebration-lu
 ncheon-and-reception/
SUMMARY:A New Year's Day Celebration Luncheon and Reception
DESCRIPTION:Come and enjoy a New Year's Day Celebration Luncheon and Recept
 ion with your fellow Club members. You can stroll around succulent garden
 s and see spectacular views of Boney Ridge and the Channel Islands. 
ATTACH;FMTTYPE=image/jpeg:https://www.malibugardenclub.org/wp-content/uplo
 ads/glen-gessford-home-01.jpg
CATEGORIES:Malibu Garden Club
LOCATION:Glen & Terry Gessford's Home\, 10777 Pacific View Dr.\, Malibu\, C
 A\, 90265\, United States
X-APPLE-STRUCTURED-LOCATION;VALUE=URI;X-ADDRESS=10777 Pacific View Dr.\, Ma
 libu\, CA\, 90265\, United States;X-APPLE-RADIUS=100;X-TITLE=Glen & Terry 
 Gessford's Home:geo:0,0
END:VEVENT
BEGIN:VTIMEZONE
TZID:America/Los_Angeles
X-LIC-LOCATION:America/Los_Angeles
BEGIN:STANDARD
DTSTART:20241103T010000
TZOFFSETFROM:-0700
TZOFFSETTO:-0800
TZNAME:PST
END:STANDARD
END:VTIMEZONE
END:VCALENDAR