BEGIN:VCALENDAR
VERSION:2.0
PRODID:-//wp-events-plugin.com//7.2.3.1//EN
TZID:America/Los_Angeles
X-WR-TIMEZONE:America/Los_Angeles
BEGIN:VEVENT
UID:240@malibugardenclub.org
DTSTART;TZID=America/Los_Angeles:20251124T113000
DTEND;TZID=America/Los_Angeles:20251124T133000
DTSTAMP:20251126T113415Z
URL:https://www.malibugardenclub.org/events/a-member-birthday-celebration/
SUMMARY:A Member Birthday Celebration
DESCRIPTION:The Malibu Garden Club is celebrating one of our loyalist membe
 r’s   birthday. Tom Lubisich\, a World War II army veteran\, is celebrat
 ing his 100th birthday in November.
ATTACH;FMTTYPE=image/jpeg:https://www.malibugardenclub.org/wp-content/uplo
 ads/Tom-Lubisich.jpg
CATEGORIES:Malibu Garden Club
END:VEVENT
BEGIN:VTIMEZONE
TZID:America/Los_Angeles
X-LIC-LOCATION:America/Los_Angeles
BEGIN:STANDARD
DTSTART:20251102T010000
TZOFFSETFROM:-0700
TZOFFSETTO:-0800
TZNAME:PST
END:STANDARD
END:VTIMEZONE
END:VCALENDAR