BEGIN:VCALENDAR
VERSION:2.0
PRODID:-//wp-events-plugin.com//7.2.3.1//EN
TZID:America/Los_Angeles
X-WR-TIMEZONE:America/Los_Angeles
BEGIN:VEVENT
UID:85@malibugardenclub.org
DTSTART;TZID=America/Los_Angeles:20120404T190000
DTEND;TZID=America/Los_Angeles:20120404T210000
DTSTAMP:20190623T165726Z
URL:https://www.malibugardenclub.org/events/a-day-in-the-garden-of-a-rare-
 fruit-grower-in-southern-california/
SUMMARY:A Day in the Garden of a Rare Fruit Grower in Southern California
DESCRIPTION:For our April meeting\, Bruce Blavin presented an introduction 
 to the California Rare Fruit Growers (CRFG) organization and then gave a p
 hoto presentation of a day in his garden\, showing a wide variety of rare 
 fruit trees that can be grown in Southern California. 
ATTACH;FMTTYPE=image/jpeg:https://www.malibugardenclub.org/wp-content/uplo
 ads/persimmons-rare-fruit.jpg
CATEGORIES:Malibu Garden Club
LOCATION:Point Dume Club House\, 29500 Heathercliff Drive\, Malibu\, Califo
 rnia\, 90265\, United States
X-APPLE-STRUCTURED-LOCATION;VALUE=URI;X-ADDRESS=29500 Heathercliff Drive\, 
 Malibu\, California\, 90265\, United States;X-APPLE-RADIUS=100;X-TITLE=Poi
 nt Dume Club House:geo:0,0
END:VEVENT
BEGIN:VTIMEZONE
TZID:America/Los_Angeles
X-LIC-LOCATION:America/Los_Angeles
BEGIN:DAYLIGHT
DTSTART:20120311T030000
TZOFFSETFROM:-0800
TZOFFSETTO:-0700
TZNAME:PDT
END:DAYLIGHT
END:VTIMEZONE
END:VCALENDAR