BEGIN:VCALENDAR
VERSION:2.0
PRODID:-//wp-events-plugin.com//7.2.3.1//EN
TZID:America/Los_Angeles
X-WR-TIMEZONE:America/Los_Angeles
BEGIN:VEVENT
UID:238@malibugardenclub.org
DTSTART;TZID=America/Los_Angeles:20250509T100000
DTEND;TZID=America/Los_Angeles:20250509T130000
DTSTAMP:20250510T101329Z
URL:https://www.malibugardenclub.org/events/747-wing-house-and-garden-tour
 /
SUMMARY:747 Wing House and Garden Tour
DESCRIPTION:Remember the spectacular house In the Santa Monica Mountains th
 at was made from the wing of a 747 airliner. The Malibu Garden Club will b
 e taking a tour of this house and spectacular garden on Friday\, May 9th. 
ATTACH;FMTTYPE=image/jpeg:https://www.malibugardenclub.org/wp-content/uplo
 ads/747-Wing-House.jpg
CATEGORIES:Malibu Garden Club
END:VEVENT
BEGIN:VTIMEZONE
TZID:America/Los_Angeles
X-LIC-LOCATION:America/Los_Angeles
BEGIN:DAYLIGHT
DTSTART:20250309T030000
TZOFFSETFROM:-0800
TZOFFSETTO:-0700
TZNAME:PDT
END:DAYLIGHT
END:VTIMEZONE
END:VCALENDAR