BEGIN:VCALENDAR
VERSION:2.0
PRODID:-//wp-events-plugin.com//7.2.3.1//EN
TZID:America/Los_Angeles
X-WR-TIMEZONE:America/Los_Angeles
BEGIN:VEVENT
UID:209@malibugardenclub.org
DTSTART;TZID=America/Los_Angeles:20200321T100000
DTEND;TZID=America/Los_Angeles:20200322T170000
DTSTAMP:20200308T144135Z
URL:https://www.malibugardenclub.org/events/63rd-annual-bonsai-show/
SUMMARY:63rd Annual Bonsai Show
DESCRIPTION:Discover the timeless appeal of an ancient horticultural art fo
 rm as the California Bonsai Society presents its 63rd annual show\, Saturd
 ay and Sunday\, March 21–22. Dozens of beautiful specimens are on view\,
  created by bonsai masters. Additional examples can be seen in the permane
 nt display in the Japanese Garden's Bonsai Courts and the new exhibition L
 ifelines/Timelines: Exploring The Huntington’s Collections Through Bonsa
 i.
ATTACH;FMTTYPE=image/jpeg:https://www.malibugardenclub.org/wp-content/uplo
 ads/bonsai.jpg
CATEGORIES:Local Events
LOCATION:The Huntington Botanical Gardens\, 1151 Oxford Road\, San Marino\,
  CA\, 91108 \, United States
X-APPLE-STRUCTURED-LOCATION;VALUE=URI;X-ADDRESS=1151 Oxford Road\, San Mari
 no\, CA\, 91108 \, United States;X-APPLE-RADIUS=100;X-TITLE=The Huntington
  Botanical Gardens:geo:0,0
END:VEVENT
BEGIN:VTIMEZONE
TZID:America/Los_Angeles
X-LIC-LOCATION:America/Los_Angeles
BEGIN:DAYLIGHT
DTSTART:20200308T030000
TZOFFSETFROM:-0800
TZOFFSETTO:-0700
TZNAME:PDT
END:DAYLIGHT
END:VTIMEZONE
END:VCALENDAR