BEGIN:VCALENDAR
VERSION:2.0
PRODID:-//wp-events-plugin.com//7.2.3.1//EN
TZID:America/Los_Angeles
X-WR-TIMEZONE:America/Los_Angeles
BEGIN:VEVENT
UID:194@malibugardenclub.org
DTSTART;TZID=America/Los_Angeles:20200208T130000
DTEND;TZID=America/Los_Angeles:20200208T170000
DTSTAMP:20191215T182052Z
URL:https://www.malibugardenclub.org/events/48th-annual-camellia-show-and-
 sale/
SUMMARY:48th Annual Camellia Show and Sale
DESCRIPTION:Hundreds of gorgeous blooms compete for top honors at The Hunti
 ngton's 48th annual Camellia Show\, co-sponsored by the Southern Californi
 a Camellia Society. View the exhibits\, shop for camellia plants to grow a
 t home\, and get some expert tips on care and cultivation.
ATTACH;FMTTYPE=image/jpeg:https://www.malibugardenclub.org/wp-content/uplo
 ads/Camellia.jpg
CATEGORIES:Local Events
LOCATION:The Huntington Botanical Gardens\, 1151 Oxford Road\, San Marino\,
  CA\, 91108 \, United States
X-APPLE-STRUCTURED-LOCATION;VALUE=URI;X-ADDRESS=1151 Oxford Road\, San Mari
 no\, CA\, 91108 \, United States;X-APPLE-RADIUS=100;X-TITLE=The Huntington
  Botanical Gardens:geo:0,0
END:VEVENT
BEGIN:VTIMEZONE
TZID:America/Los_Angeles
X-LIC-LOCATION:America/Los_Angeles
BEGIN:STANDARD
DTSTART:20191103T010000
TZOFFSETFROM:-0700
TZOFFSETTO:-0800
TZNAME:PST
END:STANDARD
END:VTIMEZONE
END:VCALENDAR