BEGIN:VCALENDAR
VERSION:2.0
PRODID:-//wp-events-plugin.com//7.2.3.1//EN
TZID:America/Los_Angeles
X-WR-TIMEZONE:America/Los_Angeles
BEGIN:VEVENT
UID:227@malibugardenclub.org
DTSTART;TZID=America/Los_Angeles:20231015T140000
DTEND;TZID=America/Los_Angeles:20231015T170000
DTSTAMP:20231018T110141Z
URL:https://www.malibugardenclub.org/events/2023-fall-presidents-luncheon-
 and-reception/
SUMMARY:2023 Fall President's Luncheon and Reception
DESCRIPTION:Come and enjoy a Fall Day luncheon with your fellow Club member
 s. You can stroll around succulent gardens and see spectacular views of Bo
 ney Ridge and the Channel Islands. Join us and enjoy the fun and seeing be
 autiful gardens.
ATTACH;FMTTYPE=image/jpeg:https://www.malibugardenclub.org/wp-content/uplo
 ads/glen-gessford-home-cover.jpg
CATEGORIES:Malibu Garden Club
END:VEVENT
BEGIN:VTIMEZONE
TZID:America/Los_Angeles
X-LIC-LOCATION:America/Los_Angeles
BEGIN:DAYLIGHT
DTSTART:20230312T030000
TZOFFSETFROM:-0800
TZOFFSETTO:-0700
TZNAME:PDT
END:DAYLIGHT
END:VTIMEZONE
END:VCALENDAR