BEGIN:VCALENDAR
VERSION:2.0
PRODID:-//wp-events-plugin.com//7.2.3.1//EN
TZID:America/Los_Angeles
X-WR-TIMEZONE:America/Los_Angeles
BEGIN:VEVENT
UID:155@malibugardenclub.org
DTSTART;TZID=America/Los_Angeles:20190523T100000
DTEND;TZID=America/Los_Angeles:20190630T200000
DTSTAMP:20190622T132819Z
URL:https://www.malibugardenclub.org/events/15th-annual-cherry-valley-lave
 nder-festival/
SUMMARY:15th Annual Cherry Valley Lavender Festival
DESCRIPTION:Each summer\, 123 Farm at Highland Springs Ranch & Inn celebrat
 es the beginning of lavender harvest season by hosting the annual Lavender
  Festival.
ATTACH;FMTTYPE=image/jpeg:https://www.malibugardenclub.org/wp-content/uplo
 ads/lavender.jpg
CATEGORIES:Local Events
LOCATION:Highland Springs Ranch & Inn\, 10600 Highland Springs Ave.\, Cherr
 y Valley\, CA\, 92223\, United States
X-APPLE-STRUCTURED-LOCATION;VALUE=URI;X-ADDRESS=10600 Highland Springs Ave.
 \, Cherry Valley\, CA\, 92223\, United States;X-APPLE-RADIUS=100;X-TITLE=H
 ighland Springs Ranch & Inn:geo:0,0
END:VEVENT
BEGIN:VTIMEZONE
TZID:America/Los_Angeles
X-LIC-LOCATION:America/Los_Angeles
BEGIN:DAYLIGHT
DTSTART:20190310T030000
TZOFFSETFROM:-0800
TZOFFSETTO:-0700
TZNAME:PDT
END:DAYLIGHT
END:VTIMEZONE
END:VCALENDAR