BEGIN:VCALENDAR
VERSION:2.0
PRODID:-//wp-events-plugin.com//7.2.3.1//EN
TZID:America/Los_Angeles
X-WR-TIMEZONE:America/Los_Angeles
BEGIN:VEVENT
UID:72@malibugardenclub.org
DTSTART;TZID=America/Los_Angeles:20130518T090000
DTEND;TZID=America/Los_Angeles:20130518T150000
DTSTAMP:20190618T164944Z
URL:https://www.malibugardenclub.org/events/14th-annual-malibu-garden-tour
 /
SUMMARY:14th Annual Malibu Garden Tour
DESCRIPTION:The 14th annual Malibu Garden Tour was held on Saturday\, May 1
 8th\, 2013.
ATTACH;FMTTYPE=image/jpeg:https://www.malibugardenclub.org/wp-content/uplo
 ads/garden-tour-2013.jpg
CATEGORIES:Malibu Garden Club
END:VEVENT
BEGIN:VTIMEZONE
TZID:America/Los_Angeles
X-LIC-LOCATION:America/Los_Angeles
BEGIN:DAYLIGHT
DTSTART:20130310T030000
TZOFFSETFROM:-0800
TZOFFSETTO:-0700
TZNAME:PDT
END:DAYLIGHT
END:VTIMEZONE
END:VCALENDAR