BEGIN:VCALENDAR
VERSION:2.0
PRODID:-//wp-events-plugin.com//7.2.3.1//EN
TZID:America/Los_Angeles
X-WR-TIMEZONE:America/Los_Angeles
BEGIN:VEVENT
UID:95@malibugardenclub.org
DTSTART;TZID=America/Los_Angeles:20110521T100000
DTEND;TZID=America/Los_Angeles:20110521T150000
DTSTAMP:20190619T110245Z
URL:https://www.malibugardenclub.org/events/13th-annual-malibu-garden-tour
 /
SUMMARY:13th Annual Malibu Garden Tour
DESCRIPTION:The 13th Annual Malibu Garden Tour was held on Saturday\, May 2
 1\, 2011.
ATTACH;FMTTYPE=image/jpeg:https://www.malibugardenclub.org/wp-content/uplo
 ads/malibu-garden.jpg
CATEGORIES:Malibu Garden Club
END:VEVENT
BEGIN:VTIMEZONE
TZID:America/Los_Angeles
X-LIC-LOCATION:America/Los_Angeles
BEGIN:DAYLIGHT
DTSTART:20110313T030000
TZOFFSETFROM:-0800
TZOFFSETTO:-0700
TZNAME:PDT
END:DAYLIGHT
END:VTIMEZONE
END:VCALENDAR